BEGIN:VCALENDAR
PRODID:Swiss Mango CMS
VERSION:2.0
METHOD:PUBLISH
BEGIN:VTIMEZONE
TZID:America/New_York
BEGIN:STANDARD
DTSTART:16011104T020000
RRULE:FREQ=YEARLY;BYDAY=1SU;BYMONTH=11
TZOFFSETFROM:-0400
TZOFFSETTO:-0500
END:STANDARD
BEGIN:DAYLIGHT
DTSTART:16010311T020000
RRULE:FREQ=YEARLY;BYDAY=2SU;BYMONTH=3
TZOFFSETFROM:-0500
TZOFFSETTO:-0400
END:DAYLIGHT
END:VTIMEZONE
BEGIN:VEVENT
UID:event-1001@www.allaboutachieving.com
DTSTAMP:20260424T031657
DTSTART;TZID=America/New_York:20230605T090000
DTEND;TZID=America/New_York:20230605T150000
SUMMARY:June 5-9: Pioneer Days - Life on a Farm\, Cake Decorating & Cooking
DESCRIPTION:Pioneer Days: Life on a Farm (CLOSED)\n(Entering 1st - 6th)Â \nLocation: 8251 SW Citrus Blvd Palm City\nÂ \nCampers will be immersed in the daily cycle of the farm as they discover the wonder of the natural world. From collecting eggs to learning about the animal families that make up a farm community to studying pond life\, baking bread\, making butter and ice cream and creating their own gardens. Campers will take a trip into our natural world to learn the science behind bees\, bugs\, ponds\, animals and so much more. Students will learn the amazing contributions of various natural wonders as they study the science related to each one. Learning will extend beyond the classroom with a plethora of hands-on experiments that give campers a glimpse into the wonders that surround us. Campers will get dirty as they work in the mud kitchen and search for natural items that will be used to make art projects. Science says that playing in the dirt âlowers blood pressure\, reduces stress and increases Vitamin Dâ. Mud pies anyone? Note: Participants should wear close toed shoes\, sunscreen and old clothes. Please do not register your child for this camp if he/she has allergies that will be dangerous to participation. This camp is held OFF SITE at 8251 SW Citrus Blvd located in Palm City.Â \nÂ \nPioneer Days: Cake Decorating Course & Cooking Course (CLOSED. Please contact the office at 772-341-1400 to be placed on our wait list)\n(Entering Grades 3rd - 8th)Â \n9am-12pm Cake Decorating/12pm-3pm Cooking Course\nLocation: 8251 SW Citrus Blvd. Palm City\nÂ \nAAALC is putting the Culinary Arts in STEAM this summer. Have you ever heard the term "too pretty to eat"? Do you wonder how cake artists create such beautiful desserts? In the morning campers will join a local cake artist Candi Keene of Keene Cakes to learn the skills needed to create detailed masterpieces\, bringing home sweet treats as they learn the decorating techniques associated with the use of each tool. They will let their imaginations run wild as they put their skills to the test and learn the various ways art can feed the body and the mind! In the afternoon\, campers will learn to cook a variety of foods from appetizers to desserts. With a full kitchen on site\, students will chop\, peel\, saute and create delicious treats. (There is an additional cost included in the camp fee to cover the extensive materials and supplies needed.) Please do not register for this camp if your child has food allergies that will be dangerous to participation. This camp is held OFF SITE at 8251 SW Citrus Blvd in Palm City. (There is an additional cost included in the camp fee to cover materials and supplies.)
X-ALT-DESC;FMTTYPE=text/html:<!DOCTYPE html PUBLIC "-//W3C//DTD XHTML 1.0 Strict//EN" "http://www.w3.org/TR/xhtml1/DTD/xhtml1-strict.dtd">\n<html xmlns="http://www.w3.org/1999/xhtml" style="color: #000\; background: #FFF\;">\n<head>\n<meta http-equiv="Content-Type" content="text/html\; charset=utf-8">\n<title></title>\n</head>\n<body style="margin: 0\; padding: 0\;">\n<div id="body" style="padding: 0\; font: 13px/1.231 arial\,helvetica\,clean\,sans-serif\; margin: 0 auto\; width: 600px\;">\n<div style="margin: 0\; padding: 0\;">\n<div style="margin: 0\; padding: 0\;">\n<strong style="font-style: normal\; font-weight: bold\;">Pioneer Days: Life on a Farm (CLOSED)</strong><br>\n(Entering 1st - 6th)Â <br>\n<strong style="font-style: normal\; font-weight: bold\;">Location: 8251 SW Citrus Blvd Palm City</strong>\n</div>\n<div style="margin: 0\; padding: 0\;">Â </div>\n<div style="margin: 0\; padding: 0\;">Campers will be immersed in the daily cycle of the farm as they discover the wonder of the natural world. From collecting eggs to learning about the animal families that make up a farm community to studying pond life\, baking bread\, making butter and ice cream and creating their own gardens. Campers will take a trip into our natural world to learn the science behind bees\, bugs\, ponds\, animals and so much more. Students will learn the amazing contributions of various natural wonders as they study the science related to each one. Learning will extend beyond the classroom with a plethora of hands-on experiments that give campers a glimpse into the wonders that surround us. Campers will get dirty as they work in the mud kitchen and search for natural items that will be used to make art projects. Science says that playing in the dirt â€œlowers blood pressure\, reduces stress and increases Vitamin Dâ€. Mud pies anyone? Note: Participants should wear close toed shoes\, sunscreen and old clothes. Please do not register your child for this camp if he/she has allergies that will be dangerous to participation. This camp is held OFF SITE at 8251 SW Citrus Blvd located in Palm City.Â </div>\n<div style="margin: 0\; padding: 0\;">Â </div>\n<div style="margin: 0\; padding: 0\;"><strong style="font-style: normal\; font-weight: bold\;">Pioneer Days: Cake Decorating Course &amp\; Cooking Course (CLOSED. Please contact the office at 772-341-1400 to be placed on our wait list)</strong></div>\n<div style="margin: 0\; padding: 0\;">(Entering Grades 3rd - 8th)Â <br>\n9am-12pm Cake Decorating/12pm-3pm Cooking Course<br>\n<strong style="font-style: normal\; font-weight: bold\;">Location: 8251 SW Citrus Blvd. Palm City</strong><br>\nÂ </div>\n<div style="margin: 0\; padding: 0\;">AAALC is putting the Culinary Arts in STEAM this summer. Have you ever heard the term "too pretty to eat"? Do you wonder how cake artists create such beautiful desserts? In the morning campers will join a local cake artist Candi Keene of Keene Cakes to learn the skills needed to create detailed masterpieces\, bringing home sweet treats as they learn the decorating techniques associated with the use of each tool. They will let their imaginations run wild as they put their skills to the test and learn the various ways art can feed the body and the mind! In the afternoon\, campers will learn to cook a variety of foods from appetizers to desserts. With a full kitchen on site\, students will chop\, peel\, saute and create delicious treats. (There is an additional cost included in the camp fee to cover the extensive materials and supplies needed.) Please do not register for this camp if your child has food allergies that will be dangerous to participation. This camp is held OFF SITE at 8251 SW Citrus Blvd in Palm City. (There is an additional cost included in the camp fee to cover materials and supplies.)</div>\n</div>\n</div>\n</body>\n</html>\n
CATEGORIES:Summer Camp
RRULE:FREQ=DAILY;UNTIL=20230609T190000Z;INTERVAL=1
END:VEVENT
END:VCALENDAR
